BEGIN:VCALENDAR
VERSION:2.0
PRODID:icalendar-ruby
CALSCALE:GREGORIAN
BEGIN:VEVENT
DTSTAMP:20260421T152355Z
UID:3e7144fb-ad70-47ce-83d8-6dbb17f639ee
DTSTART;VALUE=DATE:20230126
DESCRIPTION:Property ID# 550060\, Locatoin: First National office\, 78 Ardm
 ore Street\, Wanaka\, Time: 12:00PM
SUMMARY:Auction for 
END:VEVENT
END:VCALENDAR
