BEGIN:VCALENDAR
VERSION:2.0
PRODID:icalendar-ruby
CALSCALE:GREGORIAN
BEGIN:VEVENT
DTSTAMP:20260423T085502Z
UID:3f8e6bf4-d98e-4067-93ce-79636330f833
DTSTART;VALUE=DATE:20220727
DESCRIPTION:Property ID# 534168\, Locatoin: First National office\, 78 Ardm
 ore Street\, Wanaka\, Time: 12:00PM
SUMMARY:Auction for 
END:VEVENT
END:VCALENDAR
