BEGIN:VCALENDAR
VERSION:2.0
PRODID:icalendar-ruby
CALSCALE:GREGORIAN
BEGIN:VEVENT
DTSTAMP:20260421T153820Z
UID:5ce42f7e-dd63-4847-936e-05a19db1fd1f
DTSTART;VALUE=DATE:20220426
DESCRIPTION:Property ID# 531793\, Locatoin: First National office\, 78 Ardm
 ore Street\, Wanaka\, Time: 4:00PM
SUMMARY:Auction for 
END:VEVENT
END:VCALENDAR
