BEGIN:VCALENDAR
VERSION:2.0
PRODID:icalendar-ruby
CALSCALE:GREGORIAN
BEGIN:VEVENT
DTSTAMP:20260421T151923Z
UID:d0efb776-a06f-4b09-96d7-87472ed32d97
DTSTART;VALUE=DATE:20211026
DESCRIPTION:Property ID# 518791\, Locatoin: First National Offices\, 78 Arm
 ore Street\, Wanaka  @ 4pm\, Time: 4:00PM
SUMMARY:Auction for 
END:VEVENT
END:VCALENDAR
