BEGIN:VCALENDAR
VERSION:2.0
PRODID:icalendar-ruby
CALSCALE:GREGORIAN
BEGIN:VEVENT
DTSTAMP:20260421T152011Z
UID:60fce588-0fab-492c-a004-e9e0d6c2a5cd
DTSTART;VALUE=DATE:20210527
DESCRIPTION:Property ID# 508987\, Locatoin: First National Offices\, 78 Arm
 ore Street\, Wanaka  @ 4pm\, Time: 12:00PM
SUMMARY:Auction for 
END:VEVENT
END:VCALENDAR
