BEGIN:VCALENDAR
VERSION:2.0
PRODID:icalendar-ruby
CALSCALE:GREGORIAN
BEGIN:VEVENT
DTSTAMP:20210122T064325Z
UID:a2624f9c-f3a9-4535-acf9-831c713d0483
DTSTART;VALUE=DATE:20210128
DESCRIPTION:Property ID# 499242\, Locatoin: First National Offices\, 78 Arm
 ore Street\, Wanaka  @ 4pm\, Time: 12:00PM
SUMMARY:Auction for 16B Parkhill Drive
END:VEVENT
END:VCALENDAR
