BEGIN:VCALENDAR
VERSION:2.0
PRODID:icalendar-ruby
CALSCALE:GREGORIAN
BEGIN:VEVENT
DTSTAMP:20210122T064609Z
UID:6593bcd1-f536-4a9a-ab33-bda5467fc282
DTSTART;VALUE=DATE:20200918
DESCRIPTION:Property ID# 487876\, Locatoin: Wanaka\, Time: 4:00PM
SUMMARY:Auction for 
END:VEVENT
END:VCALENDAR
