BEGIN:VCALENDAR
VERSION:2.0
PRODID:icalendar-ruby
CALSCALE:GREGORIAN
BEGIN:VEVENT
DTSTAMP:20210122T064606Z
UID:709d922d-31d2-41d0-be4a-ffc85e9fd6e2
DTSTART;VALUE=DATE:20200312
DESCRIPTION:Property ID# 473346\, Locatoin: First National office\, 78 Ardm
 ore Street\, Wanaka\, Time: 2:00PM
SUMMARY:Auction for 
END:VEVENT
END:VCALENDAR
